BEGIN:VCALENDAR
VERSION:2.0
PRODID:-//ZMG - ECPv6.15.20//NONSGML v1.0//EN
CALSCALE:GREGORIAN
METHOD:PUBLISH
X-ORIGINAL-URL:https://zenithmusicgroup.com
X-WR-CALDESC:Events for ZMG
REFRESH-INTERVAL;VALUE=DURATION:PT1H
X-Robots-Tag:noindex
X-PUBLISHED-TTL:PT1H
BEGIN:VTIMEZONE
TZID:UTC
BEGIN:STANDARD
TZOFFSETFROM:+0000
TZOFFSETTO:+0000
TZNAME:UTC
DTSTART:20210101T000000
END:STANDARD
END:VTIMEZONE
BEGIN:VEVENT
DTSTART;TZID=UTC:20220312T190000
DTEND;TZID=UTC:20220312T223000
DTSTAMP:20260424T171130
CREATED:20220225T215038Z
LAST-MODIFIED:20220225T215038Z
UID:625-1647111600-1647124200@zenithmusicgroup.com
SUMMARY:Felly
DESCRIPTION:
URL:https://zenithmusicgroup.com/event/fellyinchicago/
LOCATION:Avondale Music Hall\, 3336 N Milwaukee Ave\, Chicago\, ill
ATTACH;FMTTYPE=image/jpeg:https://zenithmusicgroup.com/wp-content/uploads/2022/02/SPKRBX-Felly-Flyer-11x17-1-scaled.jpg
END:VEVENT
BEGIN:VEVENT
DTSTART;TZID=UTC:20220318T190000
DTEND;TZID=UTC:20220319T190000
DTSTAMP:20260424T171130
CREATED:20220309T022914Z
LAST-MODIFIED:20220316T234700Z
UID:680-1647630000-1647716400@zenithmusicgroup.com
SUMMARY:Toadface\, Abelation\,Vibe Emissions
DESCRIPTION:
URL:https://zenithmusicgroup.com/event/toadface-abelationvibe-emissions/
LOCATION:Avondale Music Hall\, 3336 N Milwaukee Ave\, Chicago\, ill
CATEGORIES:Concert
ATTACH;FMTTYPE=image/png:https://zenithmusicgroup.com/wp-content/uploads/2022/03/TOADFACE-FLYER-SMALL-SOCIALS.png
END:VEVENT
BEGIN:VEVENT
DTSTART;TZID=UTC:20220617T120000
DTEND;TZID=UTC:20220619T220000
DTSTAMP:20260424T171130
CREATED:20220516T194019Z
LAST-MODIFIED:20220523T190348Z
UID:756-1655467200-1655676000@zenithmusicgroup.com
SUMMARY:Lyrical Lemonade Summer Smash Presented By SPKRBX
DESCRIPTION:
URL:https://zenithmusicgroup.com/event/lyrical-lemonade-summer-smash-presented-by-spkrbx/
LOCATION:Douglass Park
CATEGORIES:Festival
ATTACH;FMTTYPE=image/jpeg:https://zenithmusicgroup.com/wp-content/uploads/2022/05/Summer-Smash-2022-Final-1-scaled.jpg
END:VEVENT
END:VCALENDAR