BEGIN:VCALENDAR
VERSION:2.0
PRODID:-//ZMG - ECPv6.15.20//NONSGML v1.0//EN
CALSCALE:GREGORIAN
METHOD:PUBLISH
X-ORIGINAL-URL:https://zenithmusicgroup.com
X-WR-CALDESC:Events for ZMG
REFRESH-INTERVAL;VALUE=DURATION:PT1H
X-Robots-Tag:noindex
X-PUBLISHED-TTL:PT1H
BEGIN:VTIMEZONE
TZID:UTC
BEGIN:STANDARD
TZOFFSETFROM:+0000
TZOFFSETTO:+0000
TZNAME:UTC
DTSTART:20210101T000000
END:STANDARD
END:VTIMEZONE
BEGIN:VEVENT
DTSTART;TZID=UTC:20220617T120000
DTEND;TZID=UTC:20220619T220000
DTSTAMP:20260424T171324
CREATED:20220516T194019Z
LAST-MODIFIED:20220523T190348Z
UID:756-1655467200-1655676000@zenithmusicgroup.com
SUMMARY:Lyrical Lemonade Summer Smash Presented By SPKRBX
DESCRIPTION:
URL:https://zenithmusicgroup.com/event/lyrical-lemonade-summer-smash-presented-by-spkrbx/
LOCATION:Douglass Park
CATEGORIES:Festival
ATTACH;FMTTYPE=image/jpeg:https://zenithmusicgroup.com/wp-content/uploads/2022/05/Summer-Smash-2022-Final-1-scaled.jpg
END:VEVENT
END:VCALENDAR